BEGIN:VCALENDAR
VERSION:2.0
PRODID:-//Romance Writers of New Zealand - ECPv6.15.17.1//NONSGML v1.0//EN
CALSCALE:GREGORIAN
METHOD:PUBLISH
X-ORIGINAL-URL:https://www.romancewriters.co.nz
X-WR-CALDESC:Events for Romance Writers of New Zealand
REFRESH-INTERVAL;VALUE=DURATION:PT1H
X-Robots-Tag:noindex
X-PUBLISHED-TTL:PT1H
BEGIN:VTIMEZONE
TZID:UTC
BEGIN:STANDARD
TZOFFSETFROM:+0000
TZOFFSETTO:+0000
TZNAME:UTC
DTSTART:20220101T000000
END:STANDARD
END:VTIMEZONE
BEGIN:VEVENT
DTSTART;TZID=UTC:20250818T080000
DTEND;TZID=UTC:20250820T170000
DTSTAMP:20260424T133142
CREATED:20260323T032315Z
LAST-MODIFIED:20260323T032454Z
UID:29466-1755504000-1755709200@www.romancewriters.co.nz
SUMMARY:Conference 2025
DESCRIPTION:The 2025 RWNZ conference\, Heart of a Story\, will be held 15-17 August\, at the Naumi Airport Hotel\, Auckland. Further details will be posted as available.
URL:https://www.romancewriters.co.nz/event/conference-2025/
LOCATION:Naumi Airport Hotel\, 153 Kirkbride Road\, Mangere\, Auckland\, 2022\, New Zealand
END:VEVENT
BEGIN:VEVENT
DTSTART;TZID=UTC:20250815T080000
DTEND;TZID=UTC:20250817T170000
DTSTAMP:20260424T133142
CREATED:20260324T025937Z
LAST-MODIFIED:20260324T031407Z
UID:29468-1755244800-1755450000@www.romancewriters.co.nz
SUMMARY:2025 RWNZ Conference Registration
DESCRIPTION:We’re excited to announce the 2025 Romance Writers of New Zealand conference\, 15-17 August\, 2025. \nWe’d like to invite you to attend ‘Heart of a Story’ where passion meets the page– our 2025 conference. \nEvery great story begins with a heartbeat—the pulse of an idea\, the rhythm of emotions\, and the soul of a storyteller who dares to bring words to life. At the RWNZ 2025 conference\, we celebrate the Heart of a Story\, exploring the raw passion\, deep connections and powerful themes that make stories unforgettable. \nWe have a line-up of USA Today Best Selling authors\, award-winning novelists and writing coaches to teach you over the weekend. \nWhether you’re crafting your first novel\, refining your craft\, or seeking inspiration\, this conference is where storytellers gather to uncover what truly moves readers. Through dynamic workshops\, insightful panels\, and networking opportunities with your tribe\, you’ll dive into the core elements that breathe life into storytelling—characters that resonate\, conflicts that ignite\, and narratives that linger long after the final page. \nJoin us as we uncover the heart of every story—the part that beats\, that matters\, and that stays with readers forever. \nRegistration opens April\, 2025. If you want to take advantage of our member rates\, please feel free to join RWNZ – we have many other member benefits\, including contests\, chapter meetings\, a monthly newsletter\, and a friendly support network. \n  \nTicket Types and Pricing\n\n\n\n\nRWNZ 2025 Conference\n\n\nEarly Bird Price\nMembers Only\n\n\nRegular Price\nMembers Only\n\n\nEarly Bird Price\nNon-Member\n\n\nRegular Price\nNon-Member\n\n\n\n\n1 April 2025 —\n15 June\, 2025\n16 June\, 2025 —\n7 Aug\, 2025 (close)*\n1 April 2025 —\n15 June\, 2025\n16 June\, 2025 —\n7 Aug\, 2025 (close)*\n\n\n3-day conference\n$600\n$650\n$700\n$750\n\n\n2-day conference\n $425\n$475\n$495\n$545\n\n\nFriday ticket\n $250\n$300\n$300\n$350\n\n\nAwards Dinner ‘For the Love of Character’\n$85**\n$85**\n$85**\n$85**\n\n\nExtra ticket for ‘Back to the 90s’ welcome drinks\n$45 ***\n$45 ***\n$45 ***\n$45 ***\n\n\n\n* Close—Any registration after this date is at RWNZ’s discretion.  \n** Awards Dinner attendance is by purchased ticket only.  Please make sure you indicate your attendance for the Dinner.  You may also wish to buy an additional ticket for your partner. \n*** The Friday night welcome drinks – ‘Back to the 90s’ – is included in your conference ticket. You can purchase an additional welcome drinks ticket for a partner. \nPlease ensure that if you wish to attend the awards dinner\, you select it as a product before you go ADD TO CART. Our ‘tba’ welcome drinks are included in your conference ticket\, but please tick the box if you plan to attend so we have an idea of numbers. (there is one product that is free and one product that adds a cocktail attending payment – if you need one for a partner). \nYou can update your registration details in My Account area whenever you like. \n  \nOnline Registration Tickets/Tax Invoice\nRetain all Tickets and Ticket/Tax Invoices sent to you following Registration and bring them to the conference. The ticket/s is proof of purchase for Heart of a Story. and associated events\, and must be presented at the time of registration. \nProgramme changes – In the unlikely event our programme changes at late notice due to unforeseen circumstances\, the changes will be communicated to attendees via the RWNZ website and (where applicable) email \nRegistration – Any person participating in or attending any RWNZ-sponsored conference event must be registered. Individuals who violate this condition will be invoiced for the full non-member event fee plus a 50% penalty. An exception to this policy being member attendance at the RWNZ Annual General Meeting. \n  \nEvent refunds and cancellations policy\nRWNZ Cancellation\nCancellation by RWNZ of ticketed conference events such as the Conference Dinner\, Cocktail Party\, Core Conference (Saturday/Sunday) or Friday Full Day Workshop will result in registered Attendees receiving a full refund. \n  \nAttendee Cancellation\nIf you cancel on an Early Bird ticket you get a 100% refund up until Early Bird payment deadline of 4th July. \nYou’ll get a 100% refund if cancellation is received between 4th July and 23rd July\, less a $50 administration fee. \n50% refund is applicable if your cancellation is received after 23rd July and up to 7 days prior to the event. \nNo refund if cancellation is received within 7 days of the event (except at the discretion of the Executive). \n  \nAttendee Refund Requests\nAttendees may request a refund due to hardship or other mitigating circumstances. Written requests must be sent to the Conference Registrar. Any refund decision will be at the discretion of RWNZ Management. \n  \nTransfer or on-selling of tickets\nFully purchased tickets may only be on-sold or transferred in consultation with and on agreement by the Conference Registrar\, and may incur a $50 administration fee. \n  \nProcessing Refunds\nRefunds will be by direct bank deposit and may take up to eight weeks to process. \n  \nRegister Now!\nIf you are a RWNZ MEMBER please remember to log in before registering for conference to ensure you get the membership rates. \nThe main speakers are listed here. \nYou can choose your workshops on the day of conference. \nRead the RWNZ Conference Code of Conduct here: Conference Code of Conduct RWNZ \n  \nAccommodation Details\n\n\n\n\nRoom Only*\n\n\nAttendee/Group Code:\nRWNZ2025\n\n\nRates : Habitat Room\n$180.00\n\n\nRates : Oasis Room\n$210.00\n\n\n\n* Discounted vouchers available at check-in \nFormat\nA three-day conference of keynotes\, workshops\, panels\, roundtables\, and more. Our “For the Love of Character” awards dinner will be held at the Naumi hotel on Saturday night and Friday night we can travel ‘Back to the 90s’ at a cocktail party to kick off your evening. \nBe prepared for delicious food\, inspiring teaching and the buzz of spending a weekend with a team of romance writers who are passionate about storytelling. \n  \nOur Sponsors\nRWNZ would like to thank our sponsor. \n \n 
URL:https://www.romancewriters.co.nz/event/2025-rwnz-conference-registration/
LOCATION:Naumi Airport Hotel\, 153 Kirkbride Road\, Mangere\, Auckland\, 2022\, New Zealand
ATTACH;FMTTYPE=image/png:https://www.romancewriters.co.nz/wp-content/uploads/2026/03/HeartOfAStoryConfLogo900x338.png
ORGANIZER;CN="RWNZ":MAILTO:conference@romancewriters.co.nz
END:VEVENT
BEGIN:VEVENT
DTSTART;TZID=UTC:20240809T080000
DTEND;TZID=UTC:20240811T170000
DTSTAMP:20260424T133142
CREATED:20260323T032020Z
LAST-MODIFIED:20260323T032020Z
UID:29462-1723190400-1723395600@www.romancewriters.co.nz
SUMMARY:Colours of Love | Conference 2024
DESCRIPTION:After a year’s absence\, the Romance Writers of New Zealand annual conference\, The Colours of Love\, kicks off in Ōtautahi (Christchurch\, New Zealand) on August 9th\, 2024\, at the Chateau on the Park Hotel. Join us for three whole days\, deliberating on writing\, romancing\, and networking. Registration for the event will open February 2024. \nPlease make sure you are logged in to get the member prices.
URL:https://www.romancewriters.co.nz/event/colours-of-love-conference-2024/
LOCATION:Chateau On The Park\, Christchurch\, 189 Deans Avenue\, Riccarton\,\, Christchurch\, New Zealand
ATTACH;FMTTYPE=image/png:https://www.romancewriters.co.nz/wp-content/uploads/2026/03/Picture1.png
ORGANIZER;CN="RWNZ":MAILTO:conference@romancewriters.co.nz
END:VEVENT
BEGIN:VEVENT
DTSTART;TZID=UTC:20230819T100000
DTEND;TZID=UTC:20230819T110000
DTSTAMP:20260424T133142
CREATED:20260324T030143Z
LAST-MODIFIED:20260324T030143Z
UID:29470-1692439200-1692442800@www.romancewriters.co.nz
SUMMARY:2023 RWNZ AGM
DESCRIPTION:We invite you to attend the 2023 Annual General Meeting of Romance Writers of New Zealand \n10.00 am\, Saturday 19 August\, onlive via Zoom \nhttps://us02web.zoom.us/j/88636908116?pwd=OHVPU1AvMmhGVUZWZmlhYmtrZnZhQT09
URL:https://www.romancewriters.co.nz/event/2023-rwnz-agm/
END:VEVENT
END:VCALENDAR